BEGIN:VCALENDAR
VERSION:2.0
PRODID:-//Sevenoaks School - ECPv6.15.18//NONSGML v1.0//EN
CALSCALE:GREGORIAN
METHOD:PUBLISH
X-WR-CALNAME:Sevenoaks School
X-ORIGINAL-URL:https://www.sevenoaksschool.org
X-WR-CALDESC:Events for Sevenoaks School
REFRESH-INTERVAL;VALUE=DURATION:PT1H
X-Robots-Tag:noindex
X-PUBLISHED-TTL:PT1H
BEGIN:VTIMEZONE
TZID:Europe/London
BEGIN:DAYLIGHT
TZOFFSETFROM:+0000
TZOFFSETTO:+0100
TZNAME:BST
DTSTART:20250330T010000
END:DAYLIGHT
BEGIN:STANDARD
TZOFFSETFROM:+0100
TZOFFSETTO:+0000
TZNAME:GMT
DTSTART:20251026T010000
END:STANDARD
BEGIN:DAYLIGHT
TZOFFSETFROM:+0000
TZOFFSETTO:+0100
TZNAME:BST
DTSTART:20260329T010000
END:DAYLIGHT
BEGIN:STANDARD
TZOFFSETFROM:+0100
TZOFFSETTO:+0000
TZNAME:GMT
DTSTART:20261025T010000
END:STANDARD
BEGIN:DAYLIGHT
TZOFFSETFROM:+0000
TZOFFSETTO:+0100
TZNAME:BST
DTSTART:20270328T010000
END:DAYLIGHT
BEGIN:STANDARD
TZOFFSETFROM:+0100
TZOFFSETTO:+0000
TZNAME:GMT
DTSTART:20271031T010000
END:STANDARD
END:VTIMEZONE
BEGIN:VEVENT
DTSTART;TZID=Europe/London:20260508T190000
DTEND;TZID=Europe/London:20260508T220000
DTSTAMP:20260420T235245
CREATED:20250623T163623Z
LAST-MODIFIED:20251210T094447Z
UID:10000111-1778266800-1778277600@www.sevenoaksschool.org
SUMMARY:Eugene Onegin
DESCRIPTION:Following her acclaimed 2024 company debut in Puccini’s Madama Butterfly\, soprano Asmik Grigorian returns to the Met as Tatiana\, the lovestruck young heroine in this ardent operatic adaptation of Pushkin. Baritone Igor Golovatenko reprises his portrayal of the urbane Onegin\, who realizes his affection for her all too late. \nThe Met’s evocative production\, directed by Tony Award– winner Deborah Warner\, “offers a beautifully detailed reading of … Tchaikovsky’s lyrical romance” (The Telegraph). \nTickets\n\n£18.50 Full\n£17 Concession\n£15 Subscriber\n£10 Child/Student
URL:https://www.sevenoaksschool.org/event/eugene-onegin/
LOCATION:Pamoja Hall\, The Space Sevenoaks School\, Sevenoaks\, Kent\, TN13 1HU\, United Kingdom
CATEGORIES:Arts Cinema
ATTACH;FMTTYPE=image/jpeg:https://www.sevenoaksschool.org/wp-content/uploads/2025/06/RBO-Eugene-Onegin-01-scaled.jpg
END:VEVENT
BEGIN:VEVENT
DTSTART;TZID=Europe/London:20260513T190000
DTEND;TZID=Europe/London:20260515T210000
DTSTAMP:20260420T235245
CREATED:20260313T101912Z
LAST-MODIFIED:20260326T102049Z
UID:10000204-1778698800-1778878800@www.sevenoaksschool.org
SUMMARY:Hidden Depths
DESCRIPTION:Sevenoaks School Theatre Company presents Hidden Depths\, a Year 9 stage production created by Middle School Divisional Head\, Mr Fielding. \nHidden Depths is a fast paced\, comic and oddly emotional tale of a mismatched submarine crew\, genetically uplifted pufferfish\, a sentient coffee machine\, a talking toothbrush and other eccentric personalities. \nEntangled in the high stakes of nuclear payloads\, heat-rays and hidden identities\, these absurd characters tell a farcical story of love and ambition. \nPerformances\n\nWednesday 13 May\, 7pm\nThursday 14 May\, 7pm\nFriday 15 May\, 7pm\n\nTickets\n\nFree\, but should be booked.
URL:https://www.sevenoaksschool.org/event/hidden-depths/
LOCATION:Sackville Theatre\, The Space\, Sevenoaks School\, High Street\, Sevenoaks\, Kent\, TN13 1HU\, United Kingdom
CATEGORIES:Theatre
ATTACH;FMTTYPE=image/jpeg:https://www.sevenoaksschool.org/wp-content/uploads/2026/03/Hidden-Depths-01.jpg
END:VEVENT
BEGIN:VEVENT
DTSTART;TZID=Europe/London:20260514T190000
DTEND;TZID=Europe/London:20260514T200000
DTSTAMP:20260420T235245
CREATED:20260107T124810Z
LAST-MODIFIED:20260107T125112Z
UID:10000181-1778785200-1778788800@www.sevenoaksschool.org
SUMMARY:Dr Bettina Hohnen: The Incredible Teenage Brain: Unlock Your Teen’s Potential
DESCRIPTION:The teenage brain provides an incredible opportunity for change and development\, but these years are also a time when young people are particularly sensitive and potentially vulnerable. \nDr Bettina Hohnen will guide parents through the fascinating science of the teenage brain\, explaining why adolescents think and behave as they do\, and offering practical advice for communicating with teens in ways that protect and build self-esteem. \nDrinks served from 6.30pm. \nTickets\n\nFree\, but should be booked.
URL:https://www.sevenoaksschool.org/event/dr-bettina-hohnen-the-incredible-teenage-brain-unlock-your-teens-potential/
LOCATION:Recital Room\, The Space\, Sevenoaks School\, High Street\, Sevenoaks\, Kent\, TN13 1HU\, United Kingdom
CATEGORIES:Talks
ATTACH;FMTTYPE=image/jpeg:https://www.sevenoaksschool.org/wp-content/uploads/2026/01/FoS-Talk-Dr-Bettina-Hohnen.jpg
END:VEVENT
BEGIN:VEVENT
DTSTART;TZID=Europe/London:20260516T130000
DTEND;TZID=Europe/London:20260516T170000
DTSTAMP:20260420T235245
CREATED:20260223T115644Z
LAST-MODIFIED:20260223T115644Z
UID:10000197-1778936400-1778950800@www.sevenoaksschool.org
SUMMARY:Cornah Cup Sailing Regatta
DESCRIPTION:In 2023\, we launched the Cornah Cup regatta at Bough Beech Sailing Club\, to mark Andy Cornah’s 14 years as Head of Sailing. The regatta consists of mixed pairs racing with Old Sennockians of all ages\, and students. \nThe next regatta will be on Saturday 16 May 2026. If you would like to take part please sign up below. \nsign up here > \n 
URL:https://www.sevenoaksschool.org/event/cornah-cup-sailing-regatta-2/
LOCATION:Bough Beech Sailing Club\, Winkhurst Green Road\, Edenbridge\, TN8 7AN\, United Kingdom
CATEGORIES:OS Sport
ATTACH;FMTTYPE=image/jpeg:https://www.sevenoaksschool.org/wp-content/uploads/2026/02/High-res-_DSC2139-2.jpg
END:VEVENT
BEGIN:VEVENT
DTSTART;TZID=Europe/London:20260516T183000
DTEND;TZID=Europe/London:20260516T223000
DTSTAMP:20260420T235245
CREATED:20251218T133911Z
LAST-MODIFIED:20251218T133911Z
UID:10000175-1778956200-1778970600@www.sevenoaksschool.org
SUMMARY:Class of 2006 Reunion
DESCRIPTION:Class of 2006\, 20 year reunion \nSaturday 16 May 2026 \n6.30pm – 10.30pm\nSevenoaks School \nCome along for an evening of laughter\, great connections and delicious food! \nGuests are welcome \nBook here >
URL:https://www.sevenoaksschool.org/event/class-of-2006-reunion/
LOCATION:Sevenoaks School\, High Street\, Sevenoaks\, Kent\, TN13 1HU\, United Kingdom
CATEGORIES:OS Reunions
ATTACH;FMTTYPE=image/jpeg:https://www.sevenoaksschool.org/wp-content/uploads/2025/12/10052025-2005-Alumni-reception-061.jpg
END:VEVENT
BEGIN:VEVENT
DTSTART;TZID=Europe/London:20260517T193000
DTEND;TZID=Europe/London:20260517T220000
DTSTAMP:20260420T235245
CREATED:20260323T145143Z
LAST-MODIFIED:20260323T145143Z
UID:10000209-1779046200-1779055200@www.sevenoaksschool.org
SUMMARY:Spring Classics
DESCRIPTION:Sparklingly witty\, exhilarating\, and with a few surprises thrown in for good measure\, Prokofiev’s Classical Symphony opens the final concert of Sevenoaks Symphony Orchestra’s season.\nBeethoven’s innovative and sublime fourth piano concerto follows. Soloist\, Anson Wong\, studied in the Hong Kong Academy for Performing Arts from the age of nine. He has won several prizes in China and Japan\, and recently won the Beethoven Prize in the 2025 Dublin International Piano Competition.\nThe concert concludes with one of the works in which inspiration came to Mendelssohn as a result of his travels. Initial impetus for his third symphony came from a visit to Holyrood Palace in Edinburgh. It has a traditional four-movement structure\, although the movements are written to be played without a break. With elements of Scottish folk music and the “Scotch Snap”\, this symphony as a whole is full of contrasts.\n\n\nTickets\n\n£22 Full\n£5 Young Adult 19-24\n£2 Youth Under 19
URL:https://www.sevenoaksschool.org/event/spring-classics/
LOCATION:Pamoja Hall\, The Space Sevenoaks School\, Sevenoaks\, Kent\, TN13 1HU\, United Kingdom
CATEGORIES:Music
ATTACH;FMTTYPE=image/png:https://www.sevenoaksschool.org/wp-content/uploads/2026/03/SSO-Spring-Classics-newsletter-e1774275833638.png
END:VEVENT
BEGIN:VEVENT
DTSTART;TZID=Europe/London:20260519T183000
DTEND;TZID=Europe/London:20260519T203000
DTSTAMP:20260420T235245
CREATED:20260319T140806Z
LAST-MODIFIED:20260320T115849Z
UID:10000208-1779215400-1779222600@www.sevenoaksschool.org
SUMMARY:Milan Reception
DESCRIPTION:Milan Reception \nTuesday 19 May 2026 \n6.30pm – 8:30pm \n\nAn evening for the wider community of Sevenoaks School to connect\nGuests are welcome to attend\n\nBook here >
URL:https://www.sevenoaksschool.org/event/milan-drinks-reception/
LOCATION:Milan\, Milan\, Italy
CATEGORIES:OS Reunions
ATTACH;FMTTYPE=image/jpeg:https://www.sevenoaksschool.org/wp-content/uploads/2026/03/Milan-banner-1.jpg
END:VEVENT
BEGIN:VEVENT
DTSTART;TZID=Europe/London:20260528T190000
DTEND;TZID=Europe/London:20260528T220000
DTSTAMP:20260420T235245
CREATED:20251204T100112Z
LAST-MODIFIED:20251201T144650Z
UID:10000169-1779994800-1780005600@www.sevenoaksschool.org
SUMMARY:The Playboy of the Western World
DESCRIPTION:Nicola Coughlan (Bridgerton) joins Éanna Hardwicke (The Sixth Commandment) and Siobhán McSweeney (Derry Girls) in John Millington Synge’s riveting play of youth and self-discovery.\nPegeen Flaherty’s life is turned upside down when a young man walks into her pub claiming that he’s killed his father. Instead of being shunned\, the killer becomes a local hero and begins to win hearts\, that is until a second man unexpectedly arrives on the scene.\nFilmed live on stage at the National Theatre\, Caitríona McLaughlin directs this darkly funny tale full to the brim with secrets. \nTickets\n\n£18.50 Full\n£17 Concession\n£15 Subscriber\n£10 Child/Student
URL:https://www.sevenoaksschool.org/event/the-playboy-of-the-western-world/
LOCATION:Pamoja Hall\, The Space Sevenoaks School\, Sevenoaks\, Kent\, TN13 1HU\, United Kingdom
CATEGORIES:Arts Cinema
ATTACH;FMTTYPE=image/jpeg:https://www.sevenoaksschool.org/wp-content/uploads/2025/12/NT-Live-The-Playboy-of-the-Western-World-1.jpg
END:VEVENT
END:VCALENDAR