BEGIN:VCALENDAR
VERSION:2.0
PRODID:-//Sevenoaks School - ECPv6.15.18//NONSGML v1.0//EN
CALSCALE:GREGORIAN
METHOD:PUBLISH
X-WR-CALNAME:Sevenoaks School
X-ORIGINAL-URL:https://www.sevenoaksschool.org
X-WR-CALDESC:Events for Sevenoaks School
REFRESH-INTERVAL;VALUE=DURATION:PT1H
X-Robots-Tag:noindex
X-PUBLISHED-TTL:PT1H
BEGIN:VTIMEZONE
TZID:Europe/London
BEGIN:DAYLIGHT
TZOFFSETFROM:+0000
TZOFFSETTO:+0100
TZNAME:BST
DTSTART:20240331T010000
END:DAYLIGHT
BEGIN:STANDARD
TZOFFSETFROM:+0100
TZOFFSETTO:+0000
TZNAME:GMT
DTSTART:20241027T010000
END:STANDARD
BEGIN:DAYLIGHT
TZOFFSETFROM:+0000
TZOFFSETTO:+0100
TZNAME:BST
DTSTART:20250330T010000
END:DAYLIGHT
BEGIN:STANDARD
TZOFFSETFROM:+0100
TZOFFSETTO:+0000
TZNAME:GMT
DTSTART:20251026T010000
END:STANDARD
BEGIN:DAYLIGHT
TZOFFSETFROM:+0000
TZOFFSETTO:+0100
TZNAME:BST
DTSTART:20260329T010000
END:DAYLIGHT
BEGIN:STANDARD
TZOFFSETFROM:+0100
TZOFFSETTO:+0000
TZNAME:GMT
DTSTART:20261025T010000
END:STANDARD
END:VTIMEZONE
BEGIN:VEVENT
DTSTART;TZID=Europe/London:20250307T190000
DTEND;TZID=Europe/London:20250307T210000
DTSTAMP:20260420T090816
CREATED:20250120T151900Z
LAST-MODIFIED:20250218T111716Z
UID:10000045-1741374000-1741381200@www.sevenoaksschool.org
SUMMARY:Choral Music at Sevenoaks
DESCRIPTION:Enjoy choral music from the Junior Chamber Choir\, Senior Girls Ensemble and Sennocke Consort performing pieces such as Amy Beach’s Ah\, Love\, But a Day and Antonia Lotti’s Crucifixus. The concert will end with the Choral Society and Parents & Friends choir performing pieces celebrating the use of the organ\, from Baroque to gospel. \nTickets\n\nFree\, but should be booked
URL:https://www.sevenoaksschool.org/event/choral-music-at-sevenoaks-2/
LOCATION:Pamoja Hall\, The Space Sevenoaks School\, Sevenoaks\, Kent\, TN13 1HU\, United Kingdom
CATEGORIES:Music
ATTACH;FMTTYPE=image/jpeg:https://www.sevenoaksschool.org/wp-content/uploads/2025/01/Choral-Music-@-7Oaks-Lent-1-1-scaled-1.jpg
END:VEVENT
BEGIN:VEVENT
DTSTART;VALUE=DATE:20250310
DTEND;VALUE=DATE:20250315
DTSTAMP:20260420T090816
CREATED:20250205T142904Z
LAST-MODIFIED:20250205T144514Z
UID:10000054-1741564800-1741996799@www.sevenoaksschool.org
SUMMARY:STEAM week 2025
DESCRIPTION:Welcome to STEAM Week 2025! \nWe look forward to welcoming pupils from the local community to our annual week of science\, which includes exciting shows\, workshops and competitions centred on the theme of Change and Adapt. \nPlease note tickets are allocated on a first come first served basis. If a show is fully booked you will be placed on a waiting list and will be notified if tickets become available. \nSTEAM 2025 Timetable  Book here
URL:https://www.sevenoaksschool.org/event/steam-week/
LOCATION:Kent
CATEGORIES:Talks
ATTACH;FMTTYPE=image/jpeg:https://www.sevenoaksschool.org/wp-content/uploads/2024/11/shutterstock_2125474625-scaled.jpg
END:VEVENT
BEGIN:VEVENT
DTSTART;TZID=Europe/London:20250312T183000
DTEND;TZID=Europe/London:20250312T193000
DTSTAMP:20260420T090816
CREATED:20250115T125449Z
LAST-MODIFIED:20250214T155129Z
UID:10000042-1741804200-1741807800@www.sevenoaksschool.org
SUMMARY:Professor Dave Goulson: Saving our insects
DESCRIPTION:Insects are fascinating\, beautiful\, and vitally important; without them ecosystems would grind to a halt. \nProfessor Dave Goulson will explain why insects are declining\, and the consequences if we allow this to continue. He will then consider the many ways that we can all get involved in saving our insects\, including making our gardens more insect-friendly\, rewilding land\, and supporting systems of farming that are truly sustainable. \nTickets\n\nFree\, but should be booked
URL:https://www.sevenoaksschool.org/event/professor-dave-goulson-saving-our-insects/
LOCATION:Kent
CATEGORIES:Talks
ATTACH;FMTTYPE=image/jpeg:https://www.sevenoaksschool.org/wp-content/uploads/2025/01/Saving-Our-Insects-1-scaled-1.jpg
END:VEVENT
BEGIN:VEVENT
DTSTART;TZID=Europe/London:20250313T190000
DTEND;TZID=Europe/London:20250313T210000
DTSTAMP:20260420T090816
CREATED:20250117T105404Z
LAST-MODIFIED:20250206T111110Z
UID:10000044-1741892400-1741899600@www.sevenoaksschool.org
SUMMARY:Music around the World
DESCRIPTION:A student-led talent show in which students are encouraged to sing in their first language thus reflecting the multicultural make up of our student body and international nature of the school. \nTickets cost £6 and proceeds will go to ABC Instituto Mariana de Jesús\, supporting blind and deprived children in Ecuador. \n\nTickets\n\n£6
URL:https://www.sevenoaksschool.org/event/music-around-the-world/
LOCATION:Kent
CATEGORIES:Music
ATTACH;FMTTYPE=image/jpeg:https://www.sevenoaksschool.org/wp-content/uploads/2025/01/Music-around-the-World.jpg
END:VEVENT
BEGIN:VEVENT
DTSTART;TZID=Europe/London:20250321T190000
DTEND;TZID=Europe/London:20250321T210000
DTSTAMP:20260420T090816
CREATED:20250312T105614Z
LAST-MODIFIED:20250314T151144Z
UID:10000061-1742583600-1742590800@www.sevenoaksschool.org
SUMMARY:Sevenoaks Swings
DESCRIPTION:Join us for a celebration of jazz\, featuring the Sevenoaks School Big Band\, Jazz Band along with many smaller ensembles. For the first time at Sevenoaks Swings\, The Choral Society will also make an appearance. \nTickets\n\nFree\, but should be booked
URL:https://www.sevenoaksschool.org/event/sevenoaks-swings-2/
LOCATION:Pamoja Hall\, The Space Sevenoaks School\, Sevenoaks\, Kent\, TN13 1HU\, United Kingdom
CATEGORIES:Music
ATTACH;FMTTYPE=image/jpeg:https://www.sevenoaksschool.org/wp-content/uploads/2025/03/Sevenoaks-Swings-1-scaled.jpg
END:VEVENT
BEGIN:VEVENT
DTSTART;TZID=Europe/London:20250324T190000
DTEND;TZID=Europe/London:20250324T210000
DTSTAMP:20260420T090816
CREATED:20250129T113730Z
LAST-MODIFIED:20250207T100920Z
UID:10000057-1742842800-1742850000@www.sevenoaksschool.org
SUMMARY:Orchestral Music at Sevenoaks
DESCRIPTION:Join us for a celebration of all things orchestral\, featuring the Wind Band\, Sevenoaks strings and The Chamber Orchestra. The Symphony Orchestra will close the concert with a performance of Elgar’s Enigma Variations. \nTickets\n\nFree\, but should be booked
URL:https://www.sevenoaksschool.org/event/orchestral-music-at-sevenoaks-2/
LOCATION:Pamoja Hall\, The Space Sevenoaks School\, Sevenoaks\, Kent\, TN13 1HU\, United Kingdom
CATEGORIES:Music
ATTACH;FMTTYPE=image/jpeg:https://www.sevenoaksschool.org/wp-content/uploads/2025/02/Orchestral-Music@7Oaks-Lent-1-scaled-e1738150515280.jpg
END:VEVENT
BEGIN:VEVENT
DTSTART;TZID=Europe/London:20250327T190000
DTEND;TZID=Europe/London:20250327T220000
DTSTAMP:20260420T090816
CREATED:20250327T102751Z
LAST-MODIFIED:20250327T121346Z
UID:10000072-1743102000-1743112800@www.sevenoaksschool.org
SUMMARY:Year 9 Play: Alice and the Dreamtellers
DESCRIPTION:A modern-day reworking of Shakespeare’s ‘The Two Noble Kinsmen’. Alice has fallen out with her sister\, Paloma\, and is struggling to understand how the tension between them can be resolved. Luckily\, her dream tellers are there to help. \nSet in worlds that are both modern and ancient\, Year 9 students are here to tell you a timeless story about love\, loyalty and loss. About humour and sadness. About truth and illusion. \nShowing Wednesday 26\, Thursday 27 and Saturday 29 March. \nTickets\n\nFree\, but should be booked
URL:https://www.sevenoaksschool.org/event/year-9-play-alice-and-the-dreamtellers-2/
LOCATION:Sackville Theatre\, The Space\, Sevenoaks School\, High Street\, Sevenoaks\, Kent\, TN13 1HU\, United Kingdom
END:VEVENT
BEGIN:VEVENT
DTSTART;TZID=Europe/London:20250328T190000
DTEND;TZID=Europe/London:20250328T220000
DTSTAMP:20260420T090816
CREATED:20250317T114016Z
LAST-MODIFIED:20250327T103713Z
UID:10000069-1743188400-1743199200@www.sevenoaksschool.org
SUMMARY:Dr Strangelove
DESCRIPTION:Seven-time BAFTA Award-winning actor\, Steve Coogan plays four roles in the world premiere stage adaptation of Stanley Kubrick’s comedy masterpiece Dr. Strangelove. This explosively funny satire\, about a rogue U.S General who triggers a nuclear attack\, is led by a world-renowned creative team including Emmy Award-winner Armando Iannucci and Olivier Award-winner Sean Foley. \nCertificate 12A. \nTickets\n\n£18.50 Full\n£17 Concession\n£15 Subscriber\n£10 Child/Student
URL:https://www.sevenoaksschool.org/event/dr-strangelove/
LOCATION:Pamoja Hall\, The Space Sevenoaks School\, Sevenoaks\, Kent\, TN13 1HU\, United Kingdom
CATEGORIES:Arts Cinema
END:VEVENT
END:VCALENDAR