BEGIN:VCALENDAR
VERSION:2.0
PRODID:-//Sevenoaks School - ECPv6.15.18//NONSGML v1.0//EN
CALSCALE:GREGORIAN
METHOD:PUBLISH
X-WR-CALNAME:Sevenoaks School
X-ORIGINAL-URL:https://www.sevenoaksschool.org
X-WR-CALDESC:Events for Sevenoaks School
REFRESH-INTERVAL;VALUE=DURATION:PT1H
X-Robots-Tag:noindex
X-PUBLISHED-TTL:PT1H
BEGIN:VTIMEZONE
TZID:Europe/London
BEGIN:DAYLIGHT
TZOFFSETFROM:+0000
TZOFFSETTO:+0100
TZNAME:BST
DTSTART:20250330T010000
END:DAYLIGHT
BEGIN:STANDARD
TZOFFSETFROM:+0100
TZOFFSETTO:+0000
TZNAME:GMT
DTSTART:20251026T010000
END:STANDARD
BEGIN:DAYLIGHT
TZOFFSETFROM:+0000
TZOFFSETTO:+0100
TZNAME:BST
DTSTART:20260329T010000
END:DAYLIGHT
BEGIN:STANDARD
TZOFFSETFROM:+0100
TZOFFSETTO:+0000
TZNAME:GMT
DTSTART:20261025T010000
END:STANDARD
BEGIN:DAYLIGHT
TZOFFSETFROM:+0000
TZOFFSETTO:+0100
TZNAME:BST
DTSTART:20270328T010000
END:DAYLIGHT
BEGIN:STANDARD
TZOFFSETFROM:+0100
TZOFFSETTO:+0000
TZNAME:GMT
DTSTART:20271031T010000
END:STANDARD
END:VTIMEZONE
BEGIN:VEVENT
DTSTART;TZID=Europe/London:20260618T120000
DTEND;TZID=Europe/London:20260618T160000
DTSTAMP:20260423T095231
CREATED:20251218T144547Z
LAST-MODIFIED:20260206T123102Z
UID:10000177-1781784000-1781798400@www.sevenoaksschool.org
SUMMARY:Annual Lunch 2026
DESCRIPTION:OS from the Class of 1981\, the Class of 1976 and prior are invited to the Annual Lunch. \nThursday 18 June\n12pm-4pm\nSevenoaks School \nWe look forward to seeing you for celebratory drinks\, followed by lunch\, and a tour of the school if you wish. \nPlease reserve your place below. \nBook here >
URL:https://www.sevenoaksschool.org/event/annual-lunch-2026/
LOCATION:Kent
CATEGORIES:OS Reunions
ATTACH;FMTTYPE=image/jpeg:https://www.sevenoaksschool.org/wp-content/uploads/2025/12/Annual-lunch-2025.jpg
END:VEVENT
BEGIN:VEVENT
DTSTART;TZID=Europe/London:20260625T190000
DTEND;TZID=Europe/London:20260625T220000
DTSTAMP:20260423T095231
CREATED:20251204T100158Z
LAST-MODIFIED:20260422T111828Z
UID:10000170-1782414000-1782424800@www.sevenoaksschool.org
SUMMARY:Les Liaisons Dangereuses
DESCRIPTION:BAFTA Award-winner Lesley Manville (Phantom Thread) joins Aidan Turner (Rivals) in a striking new staging of Christopher Hampton’s celebrated adaptation of the classic novel\, where among the glittering salons of the super-rich\, one misstep can mean ruin.\nMarquise de Merteuil is a master in the art of survival. Alongside the magnetic Vicomte de Valmont\, they turn seduction into strategy and weaponise desire. But when their alliance collapses into rivalry\, the battle between them threatens to destroy everyone in their path.\nFilmed live on stage at the National Theatre\, Marianne Elliott (Angels in America) directs this thrilling game of love\, lies\, and social warfare. \nTickets\n\n£18.50 Full\n£17 Concession\n£15 Subscriber\n£10 Child/Student
URL:https://www.sevenoaksschool.org/event/les-liaisons-dangereuses/
LOCATION:Pamoja Hall\, The Space Sevenoaks School\, Sevenoaks\, Kent\, TN13 1HU\, United Kingdom
CATEGORIES:Arts Cinema
ATTACH;FMTTYPE=image/jpeg:https://www.sevenoaksschool.org/wp-content/uploads/2025/12/NT-Live-Les-Liaisons-Dangereuses-2.jpg
END:VEVENT
BEGIN:VEVENT
DTSTART;TZID=Europe/London:20260903T083000
DTEND;TZID=Europe/London:20260903T150000
DTSTAMP:20260423T095232
CREATED:20260206T121643Z
LAST-MODIFIED:20260401T082134Z
UID:10000195-1788424200-1788447600@www.sevenoaksschool.org
SUMMARY:Parents' Golf Day
DESCRIPTION:Current and incoming parents are invited to the Sevenoaks School Foundation First Annual Golf Day. \nThursday 3 September\n8:30am – 3pm\nWildernesse Golf Club \nBacon rolls on arrival\, a buffet lunch and prize giving are included in the day. \nWe look forward to seeing you there. \nPlease book your place below. \nBook here >
URL:https://www.sevenoaksschool.org/event/parents-golf-day/
LOCATION:Wildernesse Golf Club\, Park Lane\, Sevenoaks\, Kent\, TN15 0JE\, United Kingdom
CATEGORIES:OS Sport
ATTACH;FMTTYPE=image/jpeg:https://www.sevenoaksschool.org/wp-content/uploads/2026/02/Wildernesse-GC.jpg
END:VEVENT
BEGIN:VEVENT
DTSTART;TZID=Europe/London:20260903T083000
DTEND;TZID=Europe/London:20260903T150000
DTSTAMP:20260423T095232
CREATED:20260313T134735Z
LAST-MODIFIED:20260326T130005Z
UID:10000206-1788424200-1788447600@www.sevenoaksschool.org
SUMMARY:Parents' Golf Day
DESCRIPTION:Parents’ Golf Day \nThursday 3 September 2026 \n8.30am–3pm\nWildernesse Golf Club \nJoin us for a relaxed and enjoyable day on the course\, beginning with breakfast rolls on arrival and followed by a buffet lunch and prizegiving. \nBook here >
URL:https://www.sevenoaksschool.org/event/parentsgolfday/
LOCATION:Wildernesse Golf Club\, Park Lane\, Sevenoaks\, Kent\, TN15 0JE\, United Kingdom
CATEGORIES:OS Sport
ATTACH;FMTTYPE=image/avif:https://www.sevenoaksschool.org/wp-content/uploads/2026/03/Wildernesse-1.avif
END:VEVENT
BEGIN:VEVENT
DTSTART;TZID=Europe/London:20261008T183000
DTEND;TZID=Europe/London:20261008T220000
DTSTAMP:20260423T095232
CREATED:20260130T151345Z
LAST-MODIFIED:20260331T090050Z
UID:10000194-1791484200-1791496800@www.sevenoaksschool.org
SUMMARY:Class of 2021 Reunion
DESCRIPTION:Class of 2021\, 5 year reunion \nThursday 8 October 2026 \n6.30pm – 10pm\nLondon \nCome along for an evening of laughter\, drinks and great connections! \nBook here >
URL:https://www.sevenoaksschool.org/event/class-of-2021-reunion/
LOCATION:London\, London\, United Kingdom
CATEGORIES:OS Reunions
ATTACH;FMTTYPE=image/jpeg:https://www.sevenoaksschool.org/wp-content/uploads/2026/01/London-event-1.jpg
END:VEVENT
END:VCALENDAR