BEGIN:VCALENDAR
VERSION:2.0
PRODID:-//Sevenoaks School - ECPv6.15.18//NONSGML v1.0//EN
CALSCALE:GREGORIAN
METHOD:PUBLISH
X-ORIGINAL-URL:https://www.sevenoaksschool.org
X-WR-CALDESC:Events for Sevenoaks School
REFRESH-INTERVAL;VALUE=DURATION:PT1H
X-Robots-Tag:noindex
X-PUBLISHED-TTL:PT1H
BEGIN:VTIMEZONE
TZID:Europe/London
BEGIN:DAYLIGHT
TZOFFSETFROM:+0000
TZOFFSETTO:+0100
TZNAME:BST
DTSTART:20250330T010000
END:DAYLIGHT
BEGIN:STANDARD
TZOFFSETFROM:+0100
TZOFFSETTO:+0000
TZNAME:GMT
DTSTART:20251026T010000
END:STANDARD
BEGIN:DAYLIGHT
TZOFFSETFROM:+0000
TZOFFSETTO:+0100
TZNAME:BST
DTSTART:20260329T010000
END:DAYLIGHT
BEGIN:STANDARD
TZOFFSETFROM:+0100
TZOFFSETTO:+0000
TZNAME:GMT
DTSTART:20261025T010000
END:STANDARD
BEGIN:DAYLIGHT
TZOFFSETFROM:+0000
TZOFFSETTO:+0100
TZNAME:BST
DTSTART:20270328T010000
END:DAYLIGHT
BEGIN:STANDARD
TZOFFSETFROM:+0100
TZOFFSETTO:+0000
TZNAME:GMT
DTSTART:20271031T010000
END:STANDARD
END:VTIMEZONE
BEGIN:VEVENT
DTSTART;TZID=Europe/London:20260605T183000
DTEND;TZID=Europe/London:20260706T200000
DTSTAMP:20260422T193943
CREATED:20260313T113242Z
LAST-MODIFIED:20260326T101935Z
UID:10000205-1780684200-1783368000@www.sevenoaksschool.org
SUMMARY:Trinity & LAMDA Showcase
DESCRIPTION:Students taking solo and duo Trinity and LAMDA exams in Acting and Speaking in Public will showcase their work to an audience. \nTickets\n\nFree\, but should be booked
URL:https://www.sevenoaksschool.org/event/trinity-lamda-showcase-4/
LOCATION:Sackville Theatre\, The Space\, Sevenoaks School\, High Street\, Sevenoaks\, Kent\, TN13 1HU\, United Kingdom
CATEGORIES:Theatre
ATTACH;FMTTYPE=image/jpeg:https://www.sevenoaksschool.org/wp-content/uploads/2026/03/TrinityLAMDA-2026-e1773401505626.jpg
END:VEVENT
BEGIN:VEVENT
DTSTART;TZID=Europe/London:20260614T120000
DTEND;TZID=Europe/London:20260614T160000
DTSTAMP:20260422T193943
CREATED:20251218T142216Z
LAST-MODIFIED:20251218T142216Z
UID:10000176-1781438400-1781452800@www.sevenoaksschool.org
SUMMARY:Class of 1996 & 1986 Reunion
DESCRIPTION:Class of 1996 & 1986\, 30 & 40 year reunion \nSunday 14 June \n12pm-4pm \nSevenoaks School \nCome along for an afternoon of laughter\, great connections and delicious food! \nGuests are welcome \nBook here >
URL:https://www.sevenoaksschool.org/event/class-of-1996-1986-reunion/
LOCATION:Sevenoaks School\, High Street\, Sevenoaks\, Kent\, TN13 1HU\, United Kingdom
CATEGORIES:OS Reunions
ATTACH;FMTTYPE=image/jpeg:https://www.sevenoaksschool.org/wp-content/uploads/2025/12/10052025-2005-Alumni-reception-061.jpg
END:VEVENT
BEGIN:VEVENT
DTSTART;TZID=Europe/London:20260614T130000
DTEND;TZID=Europe/London:20260614T150000
DTSTAMP:20260422T193943
CREATED:20260302T171848Z
LAST-MODIFIED:20260306T100805Z
UID:10000198-1781442000-1781449200@www.sevenoaksschool.org
SUMMARY:40 Years of Sennocke House
DESCRIPTION:40 Years of Sennocke House \nSunday 14 June 2026 \n1.00pm – 3.00pm\nSevenoaks School \nFor Sennocke House OS – come along to enjoy each other’s company and share unforgettable memories of your time in Sennocke\, with some delicious drinks and nibbles. \nBook here >
URL:https://www.sevenoaksschool.org/event/40-years-of-sennocke-house/
LOCATION:Sevenoaks School\, High Street\, Sevenoaks\, Kent\, TN13 1HU\, United Kingdom
CATEGORIES:OS Reunions
ATTACH;FMTTYPE=image/jpeg:https://www.sevenoaksschool.org/wp-content/uploads/2026/03/Sennocke-Boarding-House-.jpg
END:VEVENT
END:VCALENDAR