BEGIN:VCALENDAR
VERSION:2.0
PRODID:-//Sevenoaks School - ECPv6.15.18//NONSGML v1.0//EN
CALSCALE:GREGORIAN
METHOD:PUBLISH
X-ORIGINAL-URL:https://www.sevenoaksschool.org
X-WR-CALDESC:Events for Sevenoaks School
REFRESH-INTERVAL;VALUE=DURATION:PT1H
X-Robots-Tag:noindex
X-PUBLISHED-TTL:PT1H
BEGIN:VTIMEZONE
TZID:Europe/London
BEGIN:DAYLIGHT
TZOFFSETFROM:+0000
TZOFFSETTO:+0100
TZNAME:BST
DTSTART:20250330T010000
END:DAYLIGHT
BEGIN:STANDARD
TZOFFSETFROM:+0100
TZOFFSETTO:+0000
TZNAME:GMT
DTSTART:20251026T010000
END:STANDARD
BEGIN:DAYLIGHT
TZOFFSETFROM:+0000
TZOFFSETTO:+0100
TZNAME:BST
DTSTART:20260329T010000
END:DAYLIGHT
BEGIN:STANDARD
TZOFFSETFROM:+0100
TZOFFSETTO:+0000
TZNAME:GMT
DTSTART:20261025T010000
END:STANDARD
BEGIN:DAYLIGHT
TZOFFSETFROM:+0000
TZOFFSETTO:+0100
TZNAME:BST
DTSTART:20270328T010000
END:DAYLIGHT
BEGIN:STANDARD
TZOFFSETFROM:+0100
TZOFFSETTO:+0000
TZNAME:GMT
DTSTART:20271031T010000
END:STANDARD
END:VTIMEZONE
BEGIN:VEVENT
DTSTART;TZID=Europe/London:20260330T193000
DTEND;TZID=Europe/London:20260330T210000
DTSTAMP:20260420T183141
CREATED:20260311T123223Z
LAST-MODIFIED:20260311T123241Z
UID:10000199-1774899000-1774904400@www.sevenoaksschool.org
SUMMARY:Bob Ogley: The Story of Knole Park
DESCRIPTION:Bob Ogley tells the story of the largest and oldest deer park in Kent\, dating back to the 14th century and added to over the course of 700 years. Used by dukes\, archbishops\, kings\, and queens\, it has shaped Sevenoaks throughout its history. \nThis event will support the Mayor of Sevenoaks’ chosen charities: Sevenoaks Area Youth Trust and Citizens Advice.\n \ntickets\n\n£5
URL:https://www.sevenoaksschool.org/event/bob-ogley-the-story-of-knole-park/
LOCATION:Recital Room\, The Space\, Sevenoaks School\, High Street\, Sevenoaks\, Kent\, TN13 1HU\, United Kingdom
CATEGORIES:Talks
ATTACH;FMTTYPE=image/jpeg:https://www.sevenoaksschool.org/wp-content/uploads/2026/03/Bob-Ogley-e1773232164262.jpg
END:VEVENT
END:VCALENDAR