BEGIN:VCALENDAR
VERSION:2.0
PRODID:-//Sevenoaks School - ECPv6.15.18//NONSGML v1.0//EN
CALSCALE:GREGORIAN
METHOD:PUBLISH
X-WR-CALNAME:Sevenoaks School
X-ORIGINAL-URL:https://www.sevenoaksschool.org
X-WR-CALDESC:Events for Sevenoaks School
REFRESH-INTERVAL;VALUE=DURATION:PT1H
X-Robots-Tag:noindex
X-PUBLISHED-TTL:PT1H
BEGIN:VTIMEZONE
TZID:Europe/London
BEGIN:DAYLIGHT
TZOFFSETFROM:+0000
TZOFFSETTO:+0100
TZNAME:BST
DTSTART:20250330T010000
END:DAYLIGHT
BEGIN:STANDARD
TZOFFSETFROM:+0100
TZOFFSETTO:+0000
TZNAME:GMT
DTSTART:20251026T010000
END:STANDARD
BEGIN:DAYLIGHT
TZOFFSETFROM:+0000
TZOFFSETTO:+0100
TZNAME:BST
DTSTART:20260329T010000
END:DAYLIGHT
BEGIN:STANDARD
TZOFFSETFROM:+0100
TZOFFSETTO:+0000
TZNAME:GMT
DTSTART:20261025T010000
END:STANDARD
BEGIN:DAYLIGHT
TZOFFSETFROM:+0000
TZOFFSETTO:+0100
TZNAME:BST
DTSTART:20270328T010000
END:DAYLIGHT
BEGIN:STANDARD
TZOFFSETFROM:+0100
TZOFFSETTO:+0000
TZNAME:GMT
DTSTART:20271031T010000
END:STANDARD
END:VTIMEZONE
BEGIN:VEVENT
DTSTART;TZID=Europe/London:20260115T183000
DTEND;TZID=Europe/London:20260115T200000
DTSTAMP:20260420T140939
CREATED:20260109T152540Z
LAST-MODIFIED:20260112T193236Z
UID:10000182-1768501800-1768507200@www.sevenoaksschool.org
SUMMARY:Sevenoaks Talks: Intersection
DESCRIPTION:Intersection is where new ways of understanding begin. How do we speak thoughtfully in a world shaped by noise and division? How do our identities form through the people we meet? \nSix students explore the overlap between political discourse\, personal identity\, and lived experience. \nMarjolaine Mauduit: Should progress be about power or purpose? \nZoe D’Ornano: DNA Between The Lines  \nRia Devalia: Changing the Future of Women’s Health  \nNila Laloux: Thoughts on Fluidity and Letting Yourself Breathe  \nEmeline Ang: The Intersection at the Heart of our Identities  \nIsla McLeod: Plato and Productive Political Discourse  \nTickets\n\nFree\, but should be booked.
URL:https://www.sevenoaksschool.org/event/sevenoaks-talks-intersection/
LOCATION:Sackville Theatre\, The Space\, Sevenoaks School\, High Street\, Sevenoaks\, Kent\, TN13 1HU\, United Kingdom
CATEGORIES:Talks
ATTACH;FMTTYPE=image/png:https://www.sevenoaksschool.org/wp-content/uploads/2026/01/Intersection.png
END:VEVENT
BEGIN:VEVENT
DTSTART;TZID=Europe/London:20260115T190000
DTEND;TZID=Europe/London:20260115T200000
DTSTAMP:20260420T140939
CREATED:20251219T170032Z
LAST-MODIFIED:20260114T143035Z
UID:10000178-1768503600-1768507200@www.sevenoaksschool.org
SUMMARY:Anita Cleare: How to Get Your Teenager Out of Their Bedroom
DESCRIPTION:Parenting expert Anita Cleare will explore why teenagers often retreat to their rooms\, whether due to gaming\, social media\, low self-esteem\, or a growing need for space and independence\, and how parents can maintain strong connections despite the closed door. Anita will share practical strategies for supporting teen wellbeing and answer questions on parenting both teens and pre-teens.\nDrinks served from 6.30pm. \nTickets\n\nFree\, but should be booked
URL:https://www.sevenoaksschool.org/event/anita-cleare-how-to-get-your-teenager-out-of-their-bedroom/
LOCATION:Pamoja Hall\, The Space Sevenoaks School\, Sevenoaks\, Kent\, TN13 1HU\, United Kingdom
CATEGORIES:Talks
ATTACH;FMTTYPE=image/jpeg:https://www.sevenoaksschool.org/wp-content/uploads/2025/12/FoS-Talk-Anita-Cleare.jpg
END:VEVENT
END:VCALENDAR