BEGIN:VCALENDAR
VERSION:2.0
PRODID:-//Sevenoaks School - ECPv6.15.18//NONSGML v1.0//EN
CALSCALE:GREGORIAN
METHOD:PUBLISH
X-WR-CALNAME:Sevenoaks School
X-ORIGINAL-URL:https://www.sevenoaksschool.org
X-WR-CALDESC:Events for Sevenoaks School
REFRESH-INTERVAL;VALUE=DURATION:PT1H
X-Robots-Tag:noindex
X-PUBLISHED-TTL:PT1H
BEGIN:VTIMEZONE
TZID:Europe/London
BEGIN:DAYLIGHT
TZOFFSETFROM:+0000
TZOFFSETTO:+0100
TZNAME:BST
DTSTART:20250330T010000
END:DAYLIGHT
BEGIN:STANDARD
TZOFFSETFROM:+0100
TZOFFSETTO:+0000
TZNAME:GMT
DTSTART:20251026T010000
END:STANDARD
BEGIN:DAYLIGHT
TZOFFSETFROM:+0000
TZOFFSETTO:+0100
TZNAME:BST
DTSTART:20260329T010000
END:DAYLIGHT
BEGIN:STANDARD
TZOFFSETFROM:+0100
TZOFFSETTO:+0000
TZNAME:GMT
DTSTART:20261025T010000
END:STANDARD
BEGIN:DAYLIGHT
TZOFFSETFROM:+0000
TZOFFSETTO:+0100
TZNAME:BST
DTSTART:20270328T010000
END:DAYLIGHT
BEGIN:STANDARD
TZOFFSETFROM:+0100
TZOFFSETTO:+0000
TZNAME:GMT
DTSTART:20271031T010000
END:STANDARD
END:VTIMEZONE
BEGIN:VEVENT
DTSTART;TZID=Europe/London:20260110T130000
DTEND;TZID=Europe/London:20260110T163000
DTSTAMP:20260422T113444
CREATED:20251125T163757Z
LAST-MODIFIED:20251125T164522Z
UID:10000164-1768050000-1768062600@www.sevenoaksschool.org
SUMMARY:Senior Knole Run 2026
DESCRIPTION:Senior Knole Run 2026 \nSaturday 10 January \nRegistration 1:00pm-2:00pm\nFollowed by the run\, with tea and presentation of trophies and medals to follow. \nCome along and race fellow Old Sennockians in the beautiful grounds at Knole. \nBook here >
URL:https://www.sevenoaksschool.org/event/knole-run-2026/
LOCATION:Knole Park\, Knole Park\, Sevenoaks\, Kent\, TN15 0RP\, United Kingdom
CATEGORIES:OS Reunions
ATTACH;FMTTYPE=image/jpeg:https://www.sevenoaksschool.org/wp-content/uploads/2025/11/High-res-_DSC5934.jpg
END:VEVENT
END:VCALENDAR