BEGIN:VCALENDAR
VERSION:2.0
PRODID:-//Sevenoaks School - ECPv6.15.18//NONSGML v1.0//EN
CALSCALE:GREGORIAN
METHOD:PUBLISH
X-ORIGINAL-URL:https://www.sevenoaksschool.org
X-WR-CALDESC:Events for Sevenoaks School
REFRESH-INTERVAL;VALUE=DURATION:PT1H
X-Robots-Tag:noindex
X-PUBLISHED-TTL:PT1H
BEGIN:VTIMEZONE
TZID:Europe/London
BEGIN:DAYLIGHT
TZOFFSETFROM:+0000
TZOFFSETTO:+0100
TZNAME:BST
DTSTART:20250330T010000
END:DAYLIGHT
BEGIN:STANDARD
TZOFFSETFROM:+0100
TZOFFSETTO:+0000
TZNAME:GMT
DTSTART:20251026T010000
END:STANDARD
BEGIN:DAYLIGHT
TZOFFSETFROM:+0000
TZOFFSETTO:+0100
TZNAME:BST
DTSTART:20260329T010000
END:DAYLIGHT
BEGIN:STANDARD
TZOFFSETFROM:+0100
TZOFFSETTO:+0000
TZNAME:GMT
DTSTART:20261025T010000
END:STANDARD
BEGIN:DAYLIGHT
TZOFFSETFROM:+0000
TZOFFSETTO:+0100
TZNAME:BST
DTSTART:20270328T010000
END:DAYLIGHT
BEGIN:STANDARD
TZOFFSETFROM:+0100
TZOFFSETTO:+0000
TZNAME:GMT
DTSTART:20271031T010000
END:STANDARD
END:VTIMEZONE
BEGIN:VEVENT
DTSTART;TZID=Europe/London:20260104T140000
DTEND;TZID=Europe/London:20260104T180000
DTSTAMP:20260420T152226
CREATED:20250625T121816Z
LAST-MODIFIED:20250903T115706Z
UID:10000106-1767535200-1767549600@www.sevenoaksschool.org
SUMMARY:The Nutcracker
DESCRIPTION:The magician Herr Drosselmeyer needs to save his nephew. Hans-Peter has been transformed into a Nutcracker; the only way to save him is for the Nutcracker to defeat the Mouse King and find a girl to love and care for him. A flicker of hope comes in the form of the young Clara\, whom Drosselmeyer meets at a Christmas party. With some magic\, a cosy Christmas gathering turns into a marvellous adventure. \nPeter Wright’s The Nutcracker has enchanted audiences since its 1984 premiere by the Company. Featuring Tchaikovsky’s most familiar melodies and brought to life by Julia Trevelyan Oman’s exquisite designs\, The Nutcracker is sure to be a festive firecracker for all ages. \nTickets\n\n£18.50 Full\n£17 Concession\n£15 Subscriber\n£10 Student
URL:https://www.sevenoaksschool.org/event/the-nutcracker-2/
LOCATION:Pamoja Hall\, The Space Sevenoaks School\, Sevenoaks\, Kent\, TN13 1HU\, United Kingdom
CATEGORIES:Arts Cinema
ATTACH;FMTTYPE=image/jpeg:https://www.sevenoaksschool.org/wp-content/uploads/2025/06/RBO-The-Nutcracker-01-scaled.jpg
END:VEVENT
END:VCALENDAR