BEGIN:VCALENDAR
VERSION:2.0
PRODID:-//Sevenoaks School - ECPv6.15.18//NONSGML v1.0//EN
CALSCALE:GREGORIAN
METHOD:PUBLISH
X-WR-CALNAME:Sevenoaks School
X-ORIGINAL-URL:https://www.sevenoaksschool.org
X-WR-CALDESC:Events for Sevenoaks School
REFRESH-INTERVAL;VALUE=DURATION:PT1H
X-Robots-Tag:noindex
X-PUBLISHED-TTL:PT1H
BEGIN:VTIMEZONE
TZID:Europe/London
BEGIN:DAYLIGHT
TZOFFSETFROM:+0000
TZOFFSETTO:+0100
TZNAME:BST
DTSTART:20240331T010000
END:DAYLIGHT
BEGIN:STANDARD
TZOFFSETFROM:+0100
TZOFFSETTO:+0000
TZNAME:GMT
DTSTART:20241027T010000
END:STANDARD
BEGIN:DAYLIGHT
TZOFFSETFROM:+0000
TZOFFSETTO:+0100
TZNAME:BST
DTSTART:20250330T010000
END:DAYLIGHT
BEGIN:STANDARD
TZOFFSETFROM:+0100
TZOFFSETTO:+0000
TZNAME:GMT
DTSTART:20251026T010000
END:STANDARD
BEGIN:DAYLIGHT
TZOFFSETFROM:+0000
TZOFFSETTO:+0100
TZNAME:BST
DTSTART:20260329T010000
END:DAYLIGHT
BEGIN:STANDARD
TZOFFSETFROM:+0100
TZOFFSETTO:+0000
TZNAME:GMT
DTSTART:20261025T010000
END:STANDARD
END:VTIMEZONE
BEGIN:VEVENT
DTSTART;TZID=Europe/London:20251211T190000
DTEND;TZID=Europe/London:20251211T210000
DTSTAMP:20260420T123401
CREATED:20250702T090053Z
LAST-MODIFIED:20250625T121025Z
UID:10000114-1765479600-1765486800@www.sevenoaksschool.org
SUMMARY:The Fifth Step
DESCRIPTION:Olivier Award-winner Jack Lowden (Slow Horses\, Dunkirk) is joined by Emmy and BAFTA-winner Martin Freeman (The Hobbit\, The Responder) in the critically acclaimed and subversively funny new play by David Ireland. After years in the 12-step programme of Alcoholics Anonymous\, James becomes a sponsor to newcomer Luka. The pair bond over black coffee\, trade stories and build a fragile friendship out of their shared experiences. But as Luka approaches step five – the moment of confession – dangerous truths emerge\, threatening the trust on which both of their recoveries depend. \nFinn den Hertog directs the provocative and entertaining production filmed live from @sohoplace on London’s West End. \nTickets\n\n£18.50 Full\n£17 Concession\n£15 Subscriber\n£10 Child/Student
URL:https://www.sevenoaksschool.org/event/the-fifth-step/
LOCATION:Pamoja Hall\, The Space Sevenoaks School\, Sevenoaks\, Kent\, TN13 1HU\, United Kingdom
CATEGORIES:Arts Cinema
ATTACH;FMTTYPE=image/jpeg:https://www.sevenoaksschool.org/wp-content/uploads/2025/06/NT-Live-The-Fifth-Step-1-scaled.jpg
END:VEVENT
END:VCALENDAR