BEGIN:VCALENDAR
VERSION:2.0
PRODID:-//Sevenoaks School - ECPv6.15.18//NONSGML v1.0//EN
CALSCALE:GREGORIAN
METHOD:PUBLISH
X-WR-CALNAME:Sevenoaks School
X-ORIGINAL-URL:https://www.sevenoaksschool.org
X-WR-CALDESC:Events for Sevenoaks School
REFRESH-INTERVAL;VALUE=DURATION:PT1H
X-Robots-Tag:noindex
X-PUBLISHED-TTL:PT1H
BEGIN:VTIMEZONE
TZID:Europe/London
BEGIN:DAYLIGHT
TZOFFSETFROM:+0000
TZOFFSETTO:+0100
TZNAME:BST
DTSTART:20240331T010000
END:DAYLIGHT
BEGIN:STANDARD
TZOFFSETFROM:+0100
TZOFFSETTO:+0000
TZNAME:GMT
DTSTART:20241027T010000
END:STANDARD
BEGIN:DAYLIGHT
TZOFFSETFROM:+0000
TZOFFSETTO:+0100
TZNAME:BST
DTSTART:20250330T010000
END:DAYLIGHT
BEGIN:STANDARD
TZOFFSETFROM:+0100
TZOFFSETTO:+0000
TZNAME:GMT
DTSTART:20251026T010000
END:STANDARD
BEGIN:DAYLIGHT
TZOFFSETFROM:+0000
TZOFFSETTO:+0100
TZNAME:BST
DTSTART:20260329T010000
END:DAYLIGHT
BEGIN:STANDARD
TZOFFSETFROM:+0100
TZOFFSETTO:+0000
TZNAME:GMT
DTSTART:20261025T010000
END:STANDARD
END:VTIMEZONE
BEGIN:VEVENT
DTSTART;TZID=Europe/London:20251130T150000
DTEND;TZID=Europe/London:20251130T173000
DTSTAMP:20260424T183825
CREATED:20251006T093234Z
LAST-MODIFIED:20251013T095725Z
UID:10000141-1764514800-1764523800@www.sevenoaksschool.org
SUMMARY:Celebrating John Rutter and his 80th Birthday
DESCRIPTION:Sevenoaks Philharmonic Choir celebrates John Rutter’s 80th year with performances of Te Deum and Mass of the Children\, for which they will be joined by the senior choir from Weald of Kent Girls Grammar School. \nAs with all of John Rutter’s music\, the mass is beautifully written for the combined adult and children’s choir voices as well as Soprano and Baritone Soloists\, and is superbly orchestrated. The Weald of Kent Girls’ Grammar School senior choir will also perform a short set of music on their own. \nTe Deum is a jubilant work full of the pleasing tunefulness and bouncy rhythms that are the hallmarks of Rutter’s style. As this is also Advent Sunday\, the programme will be completed with music for Advent. \nTickets\n\n£17 Standard\n£16 Concession\n£5 Student
URL:https://www.sevenoaksschool.org/event/sps-2/
LOCATION:Pamoja Hall\, The Space Sevenoaks School\, Sevenoaks\, Kent\, TN13 1HU\, United Kingdom
CATEGORIES:Music
ATTACH;FMTTYPE=image/jpeg:https://www.sevenoaksschool.org/wp-content/uploads/2025/10/Sevenoaks-Philharmonic-Rutter-scaled.jpg
END:VEVENT
END:VCALENDAR