BEGIN:VCALENDAR
VERSION:2.0
PRODID:-//Sevenoaks School - ECPv6.15.18//NONSGML v1.0//EN
CALSCALE:GREGORIAN
METHOD:PUBLISH
X-ORIGINAL-URL:https://www.sevenoaksschool.org
X-WR-CALDESC:Events for Sevenoaks School
REFRESH-INTERVAL;VALUE=DURATION:PT1H
X-Robots-Tag:noindex
X-PUBLISHED-TTL:PT1H
BEGIN:VTIMEZONE
TZID:Europe/London
BEGIN:DAYLIGHT
TZOFFSETFROM:+0000
TZOFFSETTO:+0100
TZNAME:BST
DTSTART:20240331T010000
END:DAYLIGHT
BEGIN:STANDARD
TZOFFSETFROM:+0100
TZOFFSETTO:+0000
TZNAME:GMT
DTSTART:20241027T010000
END:STANDARD
BEGIN:DAYLIGHT
TZOFFSETFROM:+0000
TZOFFSETTO:+0100
TZNAME:BST
DTSTART:20250330T010000
END:DAYLIGHT
BEGIN:STANDARD
TZOFFSETFROM:+0100
TZOFFSETTO:+0000
TZNAME:GMT
DTSTART:20251026T010000
END:STANDARD
BEGIN:DAYLIGHT
TZOFFSETFROM:+0000
TZOFFSETTO:+0100
TZNAME:BST
DTSTART:20260329T010000
END:DAYLIGHT
BEGIN:STANDARD
TZOFFSETFROM:+0100
TZOFFSETTO:+0000
TZNAME:GMT
DTSTART:20261025T010000
END:STANDARD
END:VTIMEZONE
BEGIN:VEVENT
DTSTART;TZID=Europe/London:20250404T190000
DTEND;TZID=Europe/London:20250404T220000
DTSTAMP:20260424T154101
CREATED:20250602T131239Z
LAST-MODIFIED:20250602T152228Z
UID:10000087-1743793200-1743804000@www.sevenoaksschool.org
SUMMARY:Turandot
DESCRIPTION:The beautiful but icy Princess Turandot will only marry a man who can correctly answer three riddles. Those who fail are brutally beheaded. But when an unknown prince arrives\, the balance of power in Turandot’s court is forever shaken\, as the mysterious stranger does what no other has been able to. \nTickets\n\n£18.50 Full\n£17 Concession\n£15 Subscriber\n£10 Child/Student
URL:https://www.sevenoaksschool.org/event/turandot-2/
LOCATION:Kent
CATEGORIES:Arts Cinema
ATTACH;FMTTYPE=image/jpeg:https://www.sevenoaksschool.org/wp-content/uploads/2025/06/RBO-Turandot-2.jpg
END:VEVENT
END:VCALENDAR