BEGIN:VCALENDAR
VERSION:2.0
PRODID:-//Sevenoaks School - ECPv6.15.18//NONSGML v1.0//EN
CALSCALE:GREGORIAN
METHOD:PUBLISH
X-ORIGINAL-URL:https://www.sevenoaksschool.org
X-WR-CALDESC:Events for Sevenoaks School
REFRESH-INTERVAL;VALUE=DURATION:PT1H
X-Robots-Tag:noindex
X-PUBLISHED-TTL:PT1H
BEGIN:VTIMEZONE
TZID:Europe/London
BEGIN:DAYLIGHT
TZOFFSETFROM:+0000
TZOFFSETTO:+0100
TZNAME:BST
DTSTART:20240331T010000
END:DAYLIGHT
BEGIN:STANDARD
TZOFFSETFROM:+0100
TZOFFSETTO:+0000
TZNAME:GMT
DTSTART:20241027T010000
END:STANDARD
BEGIN:DAYLIGHT
TZOFFSETFROM:+0000
TZOFFSETTO:+0100
TZNAME:BST
DTSTART:20250330T010000
END:DAYLIGHT
BEGIN:STANDARD
TZOFFSETFROM:+0100
TZOFFSETTO:+0000
TZNAME:GMT
DTSTART:20251026T010000
END:STANDARD
BEGIN:DAYLIGHT
TZOFFSETFROM:+0000
TZOFFSETTO:+0100
TZNAME:BST
DTSTART:20260329T010000
END:DAYLIGHT
BEGIN:STANDARD
TZOFFSETFROM:+0100
TZOFFSETTO:+0000
TZNAME:GMT
DTSTART:20261025T010000
END:STANDARD
END:VTIMEZONE
BEGIN:VEVENT
DTSTART;TZID=Europe/London:20250403T190000
DTEND;TZID=Europe/London:20250403T210000
DTSTAMP:20260420T155239
CREATED:20250205T144857Z
LAST-MODIFIED:20250304T092734Z
UID:10000058-1743706800-1743714000@www.sevenoaksschool.org
SUMMARY:Elif Shafak: There Are Rivers in the Sky
DESCRIPTION:Sevenoaks Bookshop celebrates the paperback publication of Elif Shafak’s latest novel\, There Are Rivers in the Sky. Enjoy the privilege of hearing this great writer speak in person\, it is sure to be a memorable evening. \nThere Are Rivers in the Sky is a rich\, sweeping novel set between the 19th century and modern times\, about love and loss\, memory and erasure\, hurt and healing\, centered around three enchanting characters living on the banks of the River Thames and the River Tigris – their lives all curiously touched by the epic of Gilgamesh. \nTickets\n\n£12 ticket only\n£15 ticket and book
URL:https://www.sevenoaksschool.org/event/elif-shafak-there-are-rivers-in-the-sky/
LOCATION:Kent
CATEGORIES:Talks
ATTACH;FMTTYPE=image/webp:https://www.sevenoaksschool.org/wp-content/uploads/2025/02/7Oaks-Book-Elif-Shafak-1.webp
END:VEVENT
END:VCALENDAR