BEGIN:VCALENDAR
VERSION:2.0
PRODID:-//Sevenoaks School - ECPv6.15.18//NONSGML v1.0//EN
CALSCALE:GREGORIAN
METHOD:PUBLISH
X-WR-CALNAME:Sevenoaks School
X-ORIGINAL-URL:https://www.sevenoaksschool.org
X-WR-CALDESC:Events for Sevenoaks School
REFRESH-INTERVAL;VALUE=DURATION:PT1H
X-Robots-Tag:noindex
X-PUBLISHED-TTL:PT1H
BEGIN:VTIMEZONE
TZID:Europe/London
BEGIN:DAYLIGHT
TZOFFSETFROM:+0000
TZOFFSETTO:+0100
TZNAME:BST
DTSTART:20240331T010000
END:DAYLIGHT
BEGIN:STANDARD
TZOFFSETFROM:+0100
TZOFFSETTO:+0000
TZNAME:GMT
DTSTART:20241027T010000
END:STANDARD
BEGIN:DAYLIGHT
TZOFFSETFROM:+0000
TZOFFSETTO:+0100
TZNAME:BST
DTSTART:20250330T010000
END:DAYLIGHT
BEGIN:STANDARD
TZOFFSETFROM:+0100
TZOFFSETTO:+0000
TZNAME:GMT
DTSTART:20251026T010000
END:STANDARD
BEGIN:DAYLIGHT
TZOFFSETFROM:+0000
TZOFFSETTO:+0100
TZNAME:BST
DTSTART:20260329T010000
END:DAYLIGHT
BEGIN:STANDARD
TZOFFSETFROM:+0100
TZOFFSETTO:+0000
TZNAME:GMT
DTSTART:20261025T010000
END:STANDARD
END:VTIMEZONE
BEGIN:VEVENT
DTSTART;TZID=Europe/London:20250324T190000
DTEND;TZID=Europe/London:20250324T210000
DTSTAMP:20260424T115110
CREATED:20250129T113730Z
LAST-MODIFIED:20250207T100920Z
UID:10000057-1742842800-1742850000@www.sevenoaksschool.org
SUMMARY:Orchestral Music at Sevenoaks
DESCRIPTION:Join us for a celebration of all things orchestral\, featuring the Wind Band\, Sevenoaks strings and The Chamber Orchestra. The Symphony Orchestra will close the concert with a performance of Elgar’s Enigma Variations. \nTickets\n\nFree\, but should be booked
URL:https://www.sevenoaksschool.org/event/orchestral-music-at-sevenoaks-2/
LOCATION:Pamoja Hall\, The Space Sevenoaks School\, Sevenoaks\, Kent\, TN13 1HU\, United Kingdom
CATEGORIES:Music
ATTACH;FMTTYPE=image/jpeg:https://www.sevenoaksschool.org/wp-content/uploads/2025/02/Orchestral-Music@7Oaks-Lent-1-scaled-e1738150515280.jpg
END:VEVENT
END:VCALENDAR