BEGIN:VCALENDAR
VERSION:2.0
PRODID:-//Sevenoaks School - ECPv6.15.18//NONSGML v1.0//EN
CALSCALE:GREGORIAN
METHOD:PUBLISH
X-ORIGINAL-URL:https://www.sevenoaksschool.org
X-WR-CALDESC:Events for Sevenoaks School
REFRESH-INTERVAL;VALUE=DURATION:PT1H
X-Robots-Tag:noindex
X-PUBLISHED-TTL:PT1H
BEGIN:VTIMEZONE
TZID:Europe/London
BEGIN:DAYLIGHT
TZOFFSETFROM:+0000
TZOFFSETTO:+0100
TZNAME:BST
DTSTART:20240331T010000
END:DAYLIGHT
BEGIN:STANDARD
TZOFFSETFROM:+0100
TZOFFSETTO:+0000
TZNAME:GMT
DTSTART:20241027T010000
END:STANDARD
BEGIN:DAYLIGHT
TZOFFSETFROM:+0000
TZOFFSETTO:+0100
TZNAME:BST
DTSTART:20250330T010000
END:DAYLIGHT
BEGIN:STANDARD
TZOFFSETFROM:+0100
TZOFFSETTO:+0000
TZNAME:GMT
DTSTART:20251026T010000
END:STANDARD
BEGIN:DAYLIGHT
TZOFFSETFROM:+0000
TZOFFSETTO:+0100
TZNAME:BST
DTSTART:20260329T010000
END:DAYLIGHT
BEGIN:STANDARD
TZOFFSETFROM:+0100
TZOFFSETTO:+0000
TZNAME:GMT
DTSTART:20261025T010000
END:STANDARD
END:VTIMEZONE
BEGIN:VEVENT
DTSTART;TZID=Europe/London:20250321T190000
DTEND;TZID=Europe/London:20250321T210000
DTSTAMP:20260424T115202
CREATED:20250312T105614Z
LAST-MODIFIED:20250314T151144Z
UID:10000061-1742583600-1742590800@www.sevenoaksschool.org
SUMMARY:Sevenoaks Swings
DESCRIPTION:Join us for a celebration of jazz\, featuring the Sevenoaks School Big Band\, Jazz Band along with many smaller ensembles. For the first time at Sevenoaks Swings\, The Choral Society will also make an appearance. \nTickets\n\nFree\, but should be booked
URL:https://www.sevenoaksschool.org/event/sevenoaks-swings-2/
LOCATION:Pamoja Hall\, The Space Sevenoaks School\, Sevenoaks\, Kent\, TN13 1HU\, United Kingdom
CATEGORIES:Music
ATTACH;FMTTYPE=image/jpeg:https://www.sevenoaksschool.org/wp-content/uploads/2025/03/Sevenoaks-Swings-1-scaled.jpg
END:VEVENT
END:VCALENDAR