BEGIN:VCALENDAR
VERSION:2.0
PRODID:-//Sevenoaks School - ECPv6.15.18//NONSGML v1.0//EN
CALSCALE:GREGORIAN
METHOD:PUBLISH
X-ORIGINAL-URL:https://www.sevenoaksschool.org
X-WR-CALDESC:Events for Sevenoaks School
REFRESH-INTERVAL;VALUE=DURATION:PT1H
X-Robots-Tag:noindex
X-PUBLISHED-TTL:PT1H
BEGIN:VTIMEZONE
TZID:Europe/London
BEGIN:DAYLIGHT
TZOFFSETFROM:+0000
TZOFFSETTO:+0100
TZNAME:BST
DTSTART:20230326T010000
END:DAYLIGHT
BEGIN:STANDARD
TZOFFSETFROM:+0100
TZOFFSETTO:+0000
TZNAME:GMT
DTSTART:20231029T010000
END:STANDARD
BEGIN:DAYLIGHT
TZOFFSETFROM:+0000
TZOFFSETTO:+0100
TZNAME:BST
DTSTART:20240331T010000
END:DAYLIGHT
BEGIN:STANDARD
TZOFFSETFROM:+0100
TZOFFSETTO:+0000
TZNAME:GMT
DTSTART:20241027T010000
END:STANDARD
BEGIN:DAYLIGHT
TZOFFSETFROM:+0000
TZOFFSETTO:+0100
TZNAME:BST
DTSTART:20250330T010000
END:DAYLIGHT
BEGIN:STANDARD
TZOFFSETFROM:+0100
TZOFFSETTO:+0000
TZNAME:GMT
DTSTART:20251026T010000
END:STANDARD
END:VTIMEZONE
BEGIN:VEVENT
DTSTART;TZID=Europe/London:20241119T190000
DTEND;TZID=Europe/London:20241119T210000
DTSTAMP:20260421T161003
CREATED:20240927T114223Z
LAST-MODIFIED:20241029T102305Z
UID:10000035-1732042800-1732050000@www.sevenoaksschool.org
SUMMARY:Rock the House Down
DESCRIPTION:A student-led concert where bands from across the school will perform covers of their favourite rock and pop songs. \nTickets cost £8 and proceeds will go to Porchlight\, a non-profit organisation which helps people facing the devastating effects of homelessness. \n\nTickets\n\n£8
URL:https://www.sevenoaksschool.org/event/rock-the-house-down/
LOCATION:Kent
CATEGORIES:Music
ATTACH;FMTTYPE=image/jpeg:https://www.sevenoaksschool.org/wp-content/uploads/2024/10/Battle-of-the-Bands-2.jpg
END:VEVENT
END:VCALENDAR