BEGIN:VCALENDAR
VERSION:2.0
PRODID:-//Sevenoaks School - ECPv6.15.18//NONSGML v1.0//EN
CALSCALE:GREGORIAN
METHOD:PUBLISH
X-WR-CALNAME:Sevenoaks School
X-ORIGINAL-URL:https://www.sevenoaksschool.org
X-WR-CALDESC:Events for Sevenoaks School
REFRESH-INTERVAL;VALUE=DURATION:PT1H
X-Robots-Tag:noindex
X-PUBLISHED-TTL:PT1H
BEGIN:VTIMEZONE
TZID:Europe/London
BEGIN:DAYLIGHT
TZOFFSETFROM:+0000
TZOFFSETTO:+0100
TZNAME:BST
DTSTART:20230326T010000
END:DAYLIGHT
BEGIN:STANDARD
TZOFFSETFROM:+0100
TZOFFSETTO:+0000
TZNAME:GMT
DTSTART:20231029T010000
END:STANDARD
BEGIN:DAYLIGHT
TZOFFSETFROM:+0000
TZOFFSETTO:+0100
TZNAME:BST
DTSTART:20240331T010000
END:DAYLIGHT
BEGIN:STANDARD
TZOFFSETFROM:+0100
TZOFFSETTO:+0000
TZNAME:GMT
DTSTART:20241027T010000
END:STANDARD
BEGIN:DAYLIGHT
TZOFFSETFROM:+0000
TZOFFSETTO:+0100
TZNAME:BST
DTSTART:20250330T010000
END:DAYLIGHT
BEGIN:STANDARD
TZOFFSETFROM:+0100
TZOFFSETTO:+0000
TZNAME:GMT
DTSTART:20251026T010000
END:STANDARD
END:VTIMEZONE
BEGIN:VEVENT
DTSTART;TZID=Europe/London:20241020T140000
DTEND;TZID=Europe/London:20241020T180000
DTSTAMP:20260423T143326
CREATED:20240705T090118Z
LAST-MODIFIED:20241015T131927Z
UID:10000025-1729432800-1729447200@www.sevenoaksschool.org
SUMMARY:Alice's Adventures In Wonderland
DESCRIPTION:At a garden party on a sunny afternoon\, Alice is surprised to see her parents’ friend\, Lewis Carroll transformed into a white rabbit. When she follows him down a rabbit hole\, events become curiouser and curiouser… As Alice journeys through Wonderland\, she encounters countless strange creatures. \nShe’s swept off her feet by the charming Knave of Hearts who’s on the run for stealing the tarts. Confusion piles upon confusion. Alice then wakes with a start. Was it all a daydream? \nTickets\n\n£18.50 Full\n£17 Concession\n£15 Subscriber\n£10 Child/Student
URL:https://www.sevenoaksschool.org/event/alices-adventures-in-wonderland/
LOCATION:Kent
ATTACH;FMTTYPE=image/jpeg:https://www.sevenoaksschool.org/wp-content/uploads/2024/07/RBO-Alices-Adventures-2.jpg
END:VEVENT
END:VCALENDAR