BEGIN:VCALENDAR
VERSION:2.0
PRODID:-//Sevenoaks School - ECPv6.15.18//NONSGML v1.0//EN
CALSCALE:GREGORIAN
METHOD:PUBLISH
X-WR-CALNAME:Sevenoaks School
X-ORIGINAL-URL:https://www.sevenoaksschool.org
X-WR-CALDESC:Events for Sevenoaks School
REFRESH-INTERVAL;VALUE=DURATION:PT1H
X-Robots-Tag:noindex
X-PUBLISHED-TTL:PT1H
BEGIN:VTIMEZONE
TZID:Europe/London
BEGIN:DAYLIGHT
TZOFFSETFROM:+0000
TZOFFSETTO:+0100
TZNAME:BST
DTSTART:20230326T010000
END:DAYLIGHT
BEGIN:STANDARD
TZOFFSETFROM:+0100
TZOFFSETTO:+0000
TZNAME:GMT
DTSTART:20231029T010000
END:STANDARD
BEGIN:DAYLIGHT
TZOFFSETFROM:+0000
TZOFFSETTO:+0100
TZNAME:BST
DTSTART:20240331T010000
END:DAYLIGHT
BEGIN:STANDARD
TZOFFSETFROM:+0100
TZOFFSETTO:+0000
TZNAME:GMT
DTSTART:20241027T010000
END:STANDARD
BEGIN:DAYLIGHT
TZOFFSETFROM:+0000
TZOFFSETTO:+0100
TZNAME:BST
DTSTART:20250330T010000
END:DAYLIGHT
BEGIN:STANDARD
TZOFFSETFROM:+0100
TZOFFSETTO:+0000
TZNAME:GMT
DTSTART:20251026T010000
END:STANDARD
END:VTIMEZONE
BEGIN:VEVENT
DTSTART;TZID=Europe/London:20240912T193000
DTEND;TZID=Europe/London:20240912T220000
DTSTAMP:20260423T173705
CREATED:20240619T093138Z
LAST-MODIFIED:20240828T083115Z
UID:10000024-1726169400-1726178400@www.sevenoaksschool.org
SUMMARY:An Evening with Ben Macintyre
DESCRIPTION:Join the multi-million bestselling author of Colditz\, Agent Sonya\, SAS: Rogue Heroes\, The Spy and the Traitor\, Agent Zigzag\, Operation Mincemeat and A Spy Among Friends; Ben Macintyre\, live in Sevenoaks. \nDrawing on unpublished source material\, exclusive interviews with the SAS\, and testimony from witnesses including hostages\, negotiators\, intelligence officers and the on-site psychiatrist\, bestselling historian Ben Macintyre takes readers on a gripping journey from the years and weeks of build-up on both sides\, to the minute-by-minute account of the siege of the Iranian Embassy. \nTickets\n\nFrom £15
URL:https://www.sevenoaksschool.org/event/an-evening-with-ben-macintyre/
LOCATION:Kent
CATEGORIES:Talks
ATTACH;FMTTYPE=image/jpeg:https://www.sevenoaksschool.org/wp-content/uploads/2024/07/Ben-Macintyre-1-e1718789442386.jpg
END:VEVENT
END:VCALENDAR